BEGIN:VCALENDAR
VERSION:2.0
PRODID:-//jEvents 2.0 for Joomla//EN
CALSCALE:GREGORIAN
METHOD:PUBLISH
BEGIN:VEVENT
UID:20200402_75vbmo1her1jantutkqrlpk09k@google.com
CATEGORIES:Feriados
CLASS:PUBLIC
SUMMARY:Día del Veterano y de los Caídos en la Guerra de Malvinas
DESCRIPTION;ENCODING=QUOTED-PRINTABLE:Celebración<br/>Para ocultar las celebraciones, ve a Configuración en Googl
 e Calendar > Festivos en Argentina
DTSTAMP:20260421T023845Z
DTSTART;VALUE=DATE:20200402
DTEND;VALUE=DATE:20200403
SEQUENCE:0
TRANSP:OPAQUE
END:VEVENT
END:VCALENDAR