BEGIN:VCALENDAR
VERSION:2.0
PRODID:-//jEvents 2.0 for Joomla//EN
CALSCALE:GREGORIAN
METHOD:PUBLISH
BEGIN:VEVENT
UID:20200409_hl5c7iuejjae4ib4ncn904tlco@google.com
CATEGORIES:Feriados
CLASS:PUBLIC
SUMMARY:Jueves Santo
DESCRIPTION;ENCODING=QUOTED-PRINTABLE:Celebración\nPara ocultar las celebraciones, ve a Configuración en Google C
 alendar > Festivos en Argentina
DTSTAMP:20260421T023436Z
DTSTART;VALUE=DATE:20200409
DTEND;VALUE=DATE:20200410
SEQUENCE:0
TRANSP:OPAQUE
END:VEVENT
END:VCALENDAR