BEGIN:VCALENDAR
VERSION:2.0
PRODID:-//jEvents 2.0 for Joomla//EN
CALSCALE:GREGORIAN
METHOD:PUBLISH
BEGIN:VEVENT
UID:20240331_fjnjc99fcv7mf6s9tacgl7gnbs@google.com
CATEGORIES:Feriados
CLASS:PUBLIC
SUMMARY:Domingo de Pascua
DESCRIPTION;ENCODING=QUOTED-PRINTABLE:Celebración<br/>Para ocultar las celebraciones, ve a Configuración en Googl
 e Calendar > Festivos en Argentina
DTSTAMP:20260420T084438Z
DTSTART;VALUE=DATE:20240331
DTEND;VALUE=DATE:20240401
SEQUENCE:0
TRANSP:OPAQUE
END:VEVENT
END:VCALENDAR