BEGIN:VCALENDAR
VERSION:2.0
PRODID:-//jEvents 2.0 for Joomla//EN
CALSCALE:GREGORIAN
METHOD:PUBLISH
BEGIN:VEVENT
UID:20200410_4audft6617a0b8ed4a58ifmbm4@google.com
CATEGORIES:Feriados
CLASS:PUBLIC
SUMMARY:Viernes Santo
DESCRIPTION;ENCODING=QUOTED-PRINTABLE:Día festivo
DTSTAMP:20260421T023242Z
DTSTART;VALUE=DATE:20200410
DTEND;VALUE=DATE:20200411
SEQUENCE:0
TRANSP:OPAQUE
END:VEVENT
END:VCALENDAR