BEGIN:VCALENDAR
VERSION:2.0
PRODID:-//jEvents 2.0 for Joomla//EN
CALSCALE:GREGORIAN
METHOD:PUBLISH
BEGIN:VEVENT
UID:20200710_6tcmchmu9v1irabsb9b7tp1p40@google.com
CATEGORIES:Feriados
CLASS:PUBLIC
SUMMARY:Puente Turístico
DESCRIPTION;ENCODING=QUOTED-PRINTABLE:Día festivo
DTSTAMP:20260424T014634Z
DTSTART;VALUE=DATE:20200710
DTEND;VALUE=DATE:20200711
SEQUENCE:0
TRANSP:OPAQUE
END:VEVENT
END:VCALENDAR